BEGIN:VCALENDAR
VERSION:2.0
PRODID:-//Hindu Forum Luxembourg - ECPv5.5.0.1//NONSGML v1.0//EN
CALSCALE:GREGORIAN
METHOD:PUBLISH
X-WR-CALNAME:Hindu Forum Luxembourg
X-ORIGINAL-URL:https://hinduforum.lu
X-WR-CALDESC:Events for Hindu Forum Luxembourg
BEGIN:VTIMEZONE
TZID:Europe/Luxembourg
BEGIN:DAYLIGHT
TZOFFSETFROM:+0100
TZOFFSETTO:+0200
TZNAME:CEST
DTSTART:20180325T010000
END:DAYLIGHT
BEGIN:STANDARD
TZOFFSETFROM:+0200
TZOFFSETTO:+0100
TZNAME:CET
DTSTART:20181028T010000
END:STANDARD
END:VTIMEZONE
BEGIN:VEVENT
DTSTART;TZID=Europe/Luxembourg:20181027T160000
DTEND;TZID=Europe/Luxembourg:20181027T180000
DTSTAMP:20210722T065037
CREATED:20181025T075555Z
LAST-MODIFIED:20181025T100933Z
UID:550-1540656000-1540663200@hinduforum.lu
SUMMARY:Karva Chauth Blessings
DESCRIPTION:Namashkar ? \nOn the occasion of Karva Chauth\, we are organizing the Mehendi application on the  of Karva Chauth at the temple – Friday the 26th October from 10:00 -12:00 & 18:00 to 20:00 -\, followed by Karva Chauth Celebration at the temple on Saturday the 27th October from 1600. \nWe request you to contact Shruti x 661824574 / Anu 661556138 to organise the time for Mehendi application. \n\nThe Daily Diya lighting will take place as usual during the opening hours of the temple between 18:00-20:00. Please do join and get the blessings from the Almighty \nFor more information\, please mail us at info@hinduforum.lu
URL:https://hinduforum.lu/event/karva-chauth-blessings-3/
LOCATION:Hindu Forum Luxembourg Center\, 219 rue de Beggen\, Beggen\, Luxembourg
ATTACH;FMTTYPE=image/jpeg:https://hinduforum.lu/wp-content/uploads/2018/10/May-god-bless-you-on-karwa-chauth1.jpg
ORGANIZER;CN="":MAILTO:info@hindufurom.lu
END:VEVENT
END:VCALENDAR