BEGIN:VCALENDAR
VERSION:2.0
PRODID:-//Hindu Forum Luxembourg - ECPv5.5.0.1//NONSGML v1.0//EN
CALSCALE:GREGORIAN
METHOD:PUBLISH
X-WR-CALNAME:Hindu Forum Luxembourg
X-ORIGINAL-URL:https://hinduforum.lu
X-WR-CALDESC:Events for Hindu Forum Luxembourg
BEGIN:VTIMEZONE
TZID:Europe/Luxembourg
BEGIN:DAYLIGHT
TZOFFSETFROM:+0100
TZOFFSETTO:+0200
TZNAME:CEST
DTSTART:20180325T010000
END:DAYLIGHT
BEGIN:STANDARD
TZOFFSETFROM:+0200
TZOFFSETTO:+0100
TZNAME:CET
DTSTART:20181028T010000
END:STANDARD
END:VTIMEZONE
BEGIN:VEVENT
DTSTART;TZID=Europe/Luxembourg:20181103T150000
DTEND;TZID=Europe/Luxembourg:20181103T170000
DTSTAMP:20210722T064036
CREATED:20181101T090309Z
LAST-MODIFIED:20181101T090309Z
UID:618-1541257200-1541264400@hinduforum.lu
SUMMARY:Damodharastakam Prayers
DESCRIPTION:
URL:https://hinduforum.lu/event/damodharastakam-prayers/
LOCATION:Hindu Forum Luxembourg Center\, 219 rue de Beggen\, Beggen\, Luxembourg
ATTACH;FMTTYPE=image/jpeg:https://hinduforum.lu/wp-content/uploads/2018/11/Radhadesh-November2018-at-HFL-1.jpeg
ORGANIZER;CN="Hare%20Krishna%20Temple%20of%20Radhadesh":MAILTO:info@hindufurom.lu
END:VEVENT
END:VCALENDAR