BEGIN:VCALENDAR
VERSION:2.0
PRODID:-//Hindu Forum Luxembourg - ECPv5.5.0.1//NONSGML v1.0//EN
CALSCALE:GREGORIAN
METHOD:PUBLISH
X-WR-CALNAME:Hindu Forum Luxembourg
X-ORIGINAL-URL:https://hinduforum.lu
X-WR-CALDESC:Events for Hindu Forum Luxembourg
BEGIN:VTIMEZONE
TZID:Europe/Luxembourg
BEGIN:DAYLIGHT
TZOFFSETFROM:+0100
TZOFFSETTO:+0200
TZNAME:CEST
DTSTART:20180325T010000
END:DAYLIGHT
BEGIN:STANDARD
TZOFFSETFROM:+0200
TZOFFSETTO:+0100
TZNAME:CET
DTSTART:20181028T010000
END:STANDARD
END:VTIMEZONE
BEGIN:VEVENT
DTSTART;TZID=Europe/Luxembourg:20181107T180000
DTEND;TZID=Europe/Luxembourg:20181107T200000
DTSTAMP:20210722T064100
CREATED:20181028T103143Z
LAST-MODIFIED:20181028T103143Z
UID:598-1541613600-1541620800@hinduforum.lu
SUMMARY:Diwali 'Festival of Lights'
DESCRIPTION:
URL:https://hinduforum.lu/event/diwali-festival-of-lights/
LOCATION:Hindu Forum Luxembourg Center\, 219 rue de Beggen\, Beggen\, Luxembourg
ATTACH;FMTTYPE=image/jpeg:https://hinduforum.lu/wp-content/uploads/2018/10/Deewali-2018-HFL.jpeg
END:VEVENT
END:VCALENDAR